BEGIN:VCALENDAR
VERSION:2.0
PRODID:-//Tukios.com/
BEGIN:VEVENT
UID:0b140de9-f3a5-47bc-b2de-82cc6178428c@www.dossmanfh.com
DTSTAMP:20260420T215535Z
DTSTART:20260430T160000Z
DTEND:20260430T170000Z
SUMMARY:Burial
DESCRIPTION:
URL:https://www.dossmanfh.com/obituaries/amos-martinez
LOCATION: 11463 Texas 195  Killeen TX 76542
GEO:31.0263208;-97.7581593
END:VEVENT
END:VCALENDAR