BEGIN:VCALENDAR
VERSION:2.0
PRODID:-//Tukios.com/
BEGIN:VEVENT
UID:1c6979f9-dc55-4fb6-b3d3-25bf3078b84b@www.dossmanfh.com
DTSTAMP:20260421T203815Z
DTSTART:20260425T210000Z
DTEND:20260425T220000Z
SUMMARY:Visitation
DESCRIPTION:
URL:https://www.dossmanfh.com/obituaries/keith-lee
LOCATION: 2525 N Main St  Belton TX 76513
GEO:31.0811779;-97.4567566
END:VEVENT
END:VCALENDAR