BEGIN:VCALENDAR
VERSION:2.0
PRODID:-//Tukios.com/
BEGIN:VEVENT
UID:cd92632f-352e-4064-8ff4-ef9d45e58f68@www.dossmanfh.com
DTSTAMP:20260421T204158Z
DTSTART:20260425T220000Z
DTEND:20260425T230000Z
SUMMARY:Memorial Service
DESCRIPTION:
URL:https://www.dossmanfh.com/obituaries/keith-lee
LOCATION: 2525 N Main St  Belton TX 76513
GEO:31.0811779;-97.4567566
END:VEVENT
END:VCALENDAR